BEGIN:VCALENDAR
VERSION:2.0
PRODID:-//BETTER FINANCE - ECPv4.6.25//NONSGML v1.0//EN
CALSCALE:GREGORIAN
METHOD:PUBLISH
X-WR-CALNAME:BETTER FINANCE
X-ORIGINAL-URL:https://betterfinance.eu
X-WR-CALDESC:Events for BETTER FINANCE
BEGIN:VEVENT
DTSTART;TZID=Europe/Brussels:20250528T090000
DTEND;TZID=Europe/Brussels:20250528T120000
DTSTAMP:20260422T120603
CREATED:20250424T124508Z
LAST-MODIFIED:20250527T130510Z
UID:20013-1748422800-1748433600@betterfinance.eu
SUMMARY:Silence is Golden: Exploitation of Artisanal Gold Miners to Fund War\, Terrorism\, and Organised Crime
DESCRIPTION: \nDate: 28 May 2025 | Location: The Representation of Hessen to the EU\, Rue Montoyer 21 \nBETTER FINANCE\, in collaboration with the World Gold Council\, is hosting an exclusive high-level roundtable discussion\, entitled “Silence is Golden\,” to be held on 28 May in Brussels. This closed-door event (under the Chatham House Rules) will bring together senior EU officials\, top diplomats\, CEOs of leading NGOs and trade associations\, and representatives of key international institutions to explore the urgent issue of illicit gold mining and its wider implications for non-financial reporting\, customer due diligence\, ESG standards\, and international security. \n\nWe are honoured to have Rt Hon Dominic Raab\, former UK Deputy Prime Minister\, who will present his recent report examining the global landscape of Artisanal and Small-Scale Gold Mining (ASGM)\, highlighting its links to criminal networks\, child labour\, and conflict financing in regions such as Ethiopia\, the Sahel\, and South America. \n\nThe roundtable will also feature senior representatives from EU institutions to discuss how international and EU policy can more effectively support the formalisation of the sector and address its human and environmental impact. \n\nProgramme\n09:00 – 09:30 | Registration\, coffee\, and breakfast\n\n9:30 – 9.35 | Welcome Speech\nJochen Presl\, Head of Unit for EU Financial Policy and the Financial Centre Frankfurt\, Representation of the State of Hessen to the EU \n\n09:35 – 9.50 | Introductory Remarks\nBETTER FINANCE Representative \nWorld Gold Council Representative \n\n09:50 – 10.10 | Presentation\nSilence is golden: the exploitation of artisanal gold miners to fund war\, terrorism\, and organised crime – presentation by Dominic Raab \n\n10:10 – 10.30 – Keynote remarks\nLuis Enrique Chávez Basagoitia\, Ambassador\, Embassy of Peru to the EU \nKaushik Genasan\, Project Manager\, Project OCTAGON\, World Customs Organisation \nJulien Garsany\, Head of UNODC Brussels Office\, UN Office on Drugs and Crime \n\n10:30 -11.00 – Roundtable discussion\n\nInterested participants are encouraged to apply for an invitation by completing the form below. Please note that the confirmation email you receive after applying for attendance does not constitute an invitation. After you apply\, our team will follow up shortly with a formal invitation. \n
URL:https://betterfinance.eu/event/roundtable-discussion-silence-golden/
LOCATION:Representation of the State of Hessen\, rue Montoyer 21\, Brussels\, Rue Montoyer 21\, Brussels\, 1000\, Belgium
CATEGORIES:Roundtable Discussion
END:VEVENT
END:VCALENDAR