BEGIN:VCALENDAR
VERSION:2.0
PRODID:-//BETTER FINANCE - ECPv4.6.25//NONSGML v1.0//EN
CALSCALE:GREGORIAN
METHOD:PUBLISH
X-WR-CALNAME:BETTER FINANCE
X-ORIGINAL-URL:https://betterfinance.eu
X-WR-CALDESC:Events for BETTER FINANCE
BEGIN:VEVENT
DTSTART;TZID=Europe/Brussels:20250930T093000
DTEND;TZID=Europe/Brussels:20250930T133000
DTSTAMP:20260422T165741
CREATED:20250623T150750Z
LAST-MODIFIED:20250918T114130Z
UID:20291-1759224600-1759239000@betterfinance.eu
SUMMARY:Financial Literacy and Advice: Driving Confidence\, Protection and Wellbeing
DESCRIPTION: \nDate: 30 September 2025 | Time: 09:15 – 13:00 | Location: Renaissance Brussels Hotel \n*Under the patronage of the European Parliament \n\nBETTER FINANCE is teaming up with EFPA to promote the importance of Financial Health through a full-day event at the Renaissance Brussels Hotel: “Financial Literacy and Advice: Driving Confidence\, Protection and Wellbeing.” The conference examines how financial literacy\, professional advice\, and a more streamlined investor journey can contribute to achieving the objectives of the Savings and Investments Union (SIU). \nDuring this conference\, BETTER FINANCE and EFPA will present their joint research study on the financial health of Europeans. For this study\, BETTER FINANCE and EFPA surveyed over 14\,000 adults in 10 countries\, offering a data-driven snapshot of citizens’ financial behaviours and vulnerabilities. \nRegister Now\n\nProgramme\n09:00 – 09:30 | Registration\n\n09:30 – 09:45 | Opening Remarks\n\n09:45 – 10:30 | Presentation of 2025 Report ¨Financial Health of EU Citizens – Quantitative Research¨\nExclusive first look at comprehensive research revealing the current state of financial well-being across European Union member states\, including key findings and recommendations for policymakers. \n\n10:30 – 11:15 | Fireside Chat: Reaction to the Report\n\nEU policymakers and regulatory experts discuss immediate and long-term policy responses to address the challenges identified in the financial health report. \n\n\n11:15 – 11:30 | Coffee Break\n\n11:30 – 12:45 | Panel 2: Can We Have It All? Financial Advice at the Crossroads\n\n\nExploring innovative strategies to connect EU citizens with capital markets through enhanced advisor capabilities and digital transformation. \n\n\n\n12:45 – 13:00 | Closing Remarks\n\n13:00 – 13:45 | Light Lunch\n\n  \n***\nSpeakers\nRasmus Andresen\, Member of the European Parliament\, ECON Committee \nJacopo Borgognone\, Senior Advisor for Capital Markets\, EBF \nEmanuele Carluccio\, Chair\, EFPA \nAndrea Liesenfeld\, Deputy\, EC DG FISMA B3 -Retail Financial Services \nAleksandra Maczynska\, Managing Director\, BETTER FINANCE \nLaura Noonan\, Journalist\, Bloomberg \nJosep Soler-Albertí\, Board Member\, EFPA (EFPA Spain) \nMariola Szymanska\, Board Member\, EFPA (EFPA Poland) \nRiikka Torppa\, Deputy Head of Cabinet\, Commissioner Albuquerque \nWilliam Vidonja\, Head of Conduct of Business\, Insurance Europe \n  \n
URL:https://betterfinance.eu/event/better-finance-efpa-europe-conference/
LOCATION:Brussels\, Belgium
CATEGORIES:Conference
END:VEVENT
END:VCALENDAR