BEGIN:VCALENDAR
VERSION:2.0
PRODID:-//BETTER FINANCE - ECPv4.6.25//NONSGML v1.0//EN
CALSCALE:GREGORIAN
METHOD:PUBLISH
X-WR-CALNAME:BETTER FINANCE
X-ORIGINAL-URL:https://betterfinance.eu
X-WR-CALDESC:Events for BETTER FINANCE
BEGIN:VEVENT
DTSTART;TZID=Europe/Brussels:20250205T090000
DTEND;TZID=Europe/Brussels:20250205T170000
DTSTAMP:20260420T095203
CREATED:20241216T154215Z
LAST-MODIFIED:20241216T154215Z
UID:19028-1738746000-1738774800@betterfinance.eu
SUMMARY:Aleksandra Maczynska speaking at ESMA’s conference “Shaping the Future of EU Capital Markets”
DESCRIPTION: \nAleksandra Maczynska\, Managing Director of BETTER FINANCE\, will be speaking at ESMA’s conference “Shaping the Future of EU Capital Markets.” The conference will focus on the importance of developing the European Savings and Investment Union and key priority areas for the coming years to ensure its success for EU citizens and businesses. \nThe conference’s programme will feature panel discussions on: \nDefining the vision for EU capital markets under the SIU project\nThe conference will explore developing effective and attractive EU capital markets by enhancing the wider market framework and prioritising the needs of investors and companies. It will also focus on what can be done to turn our ambitions into reality and how to deliver lasting value and impact for EU citizens and businesses.\nFilling the funding gap for competitive European businesses\nThe conference will talk about how to create a more competitive business environment by developing diverse sources of funding and fostering a supportive ecosystem for SMEs\, start-ups\, and markets. The emphasis will be on defining how to channel funding into this direction.\nShaping a culture of retail investors\nThe conference will explore possible options to empower EU citizens to invest more in capital markets. Simple and cost-efficient investment options\, backed by protections\, incentives\, and education\, can provide a gateway for all citizens to turn their savings into investments for the future. \nFor more details and registration\, please visit here. \n
URL:https://betterfinance.eu/event/aleksandra-maczynska-speaking-esma-conference-2025/
LOCATION:Brussels\, Belgium
END:VEVENT
END:VCALENDAR